BEGIN:VCALENDAR
VERSION:2.0
PRODID:-//Centre for Development Studies
CALSCALE:GREGORIAN
METHOD:PUBLISH
X-WR-CALNAME:Centre for Development Studies
X-ORIGINAL-URL:https://cds.edu/event/national-conference-on-development-and-structural-transformation-in-india-evidence-and-policy/
X-WR-CALDESC:National Conference on Development and Structural Transformation in India: Evidence and Policy
BEGIN:VEVENT
DTSTART:20260925T090000
DTEND:20260926T180000
SUMMARY:National Conference on Development and Structural Transformation in India: Evidence and Policy
DESCRIPTION:25-26 September 2026
LOCATION:
END:VEVENT
END:VCALENDAR
