BEGIN:VCALENDAR
VERSION:2.0
PRODID:-//Centre for Development Studies
CALSCALE:GREGORIAN
METHOD:PUBLISH
X-WR-CALNAME:Centre for Development Studies
X-ORIGINAL-URL:https://cds.edu/event/seminar-giri-28april/
X-WR-CALDESC:Seminar by Prof Ananta Kumar Giri
BEGIN:VEVENT
DTSTART:
DTEND:
SUMMARY:Seminar by Prof Ananta Kumar Giri
DESCRIPTION:28 April 2026
LOCATION:
END:VEVENT
END:VCALENDAR
