BEGIN:VCALENDAR
VERSION:2.0
PRODID:-//Centre for Development Studies
CALSCALE:GREGORIAN
METHOD:PUBLISH
X-WR-CALNAME:Centre for Development Studies
X-ORIGINAL-URL:https://cds.edu/event/seminar-by-prof-thiagu-ranganathan-and-dr-sachu-sara/
X-WR-CALDESC:Seminar by Prof. Thiagu Ranganathan and Dr. Sachu Sara
BEGIN:VEVENT
DTSTART:20260605T153000
DTEND:20260605T170000
SUMMARY:Seminar by Prof. Thiagu Ranganathan and Dr. Sachu Sara
DESCRIPTION:
LOCATION:Joan Robinson Hall, CDS
END:VEVENT
END:VCALENDAR
