BEGIN:VCALENDAR
VERSION:2.0
PRODID:-//Centre for Development Studies
CALSCALE:GREGORIAN
METHOD:PUBLISH
X-WR-CALNAME:Centre for Development Studies
X-ORIGINAL-URL:https://cds.edu/event/seminar-by-dr-amartya-paul/
X-WR-CALDESC:Seminar by Dr. Amartya Paul
BEGIN:VEVENT
DTSTART:20260626T153000
DTEND:20260626T170000
SUMMARY:Seminar by Dr. Amartya Paul
DESCRIPTION:
LOCATION:Joan R
END:VEVENT
END:VCALENDAR
