BEGIN:VCALENDAR
VERSION:2.0
PRODID:-//Centre for Development Studies
CALSCALE:GREGORIAN
METHOD:PUBLISH
X-WR-CALNAME:Centre for Development Studies
X-ORIGINAL-URL:https://cds.edu/event/womens-day-celebrations-4/
X-WR-CALDESC:International Women&#8217;s Day Celebrations
BEGIN:VEVENT
DTSTART:20260309T153000
DTEND:20260309T170000
SUMMARY:International Women&#8217;s Day Celebrations
DESCRIPTION:09 March 2026
LOCATION:Joan Robinson Hall, CDS
END:VEVENT
END:VCALENDAR
