BEGIN:VCALENDAR
VERSION:2.0
PRODID:-//Centre for Development Studies
CALSCALE:GREGORIAN
METHOD:PUBLISH
X-WR-CALNAME:Centre for Development Studies
X-ORIGINAL-URL:https://cds.edu/event/foundation-day-lecture2026/
X-WR-CALDESC:CDS Foundation Day Lecture by Dr. Poonam Gupta, Deputy Governor, RBI
BEGIN:VEVENT
DTSTART:20260220T113000
DTEND:20260220T130000
SUMMARY:CDS Foundation Day Lecture by Dr. Poonam Gupta, Deputy Governor, RBI
DESCRIPTION:20 February 2026
LOCATION:Joan Robinson Hall, CDS
END:VEVENT
END:VCALENDAR
