BEGIN:VCALENDAR
VERSION:2.0
PRODID:-//Centre for Development Studies
CALSCALE:GREGORIAN
METHOD:PUBLISH
X-WR-CALNAME:Centre for Development Studies
X-ORIGINAL-URL:https://cds.edu/event/2day-conference-gst2026/
X-WR-CALDESC:International Conference on Socio-Economic Impacts of GST in India
BEGIN:VEVENT
DTSTART:20260328T090000
DTEND:20260329T170000
SUMMARY:International Conference on Socio-Economic Impacts of GST in India
DESCRIPTION:28-29, March 2026
LOCATION:
END:VEVENT
END:VCALENDAR
