BEGIN:VCALENDAR
VERSION:2.0
PRODID:-//Centre for Development Studies
CALSCALE:GREGORIAN
METHOD:PUBLISH
X-WR-CALNAME:Centre for Development Studies
X-ORIGINAL-URL:https://cds.edu/event/seminar-by-dr-debjani-dasgupta/
X-WR-CALDESC:Seminar by Dr. Debjani Dasgupta
BEGIN:VEVENT
DTSTART:20260213T143000
DTEND:20260213T153000
SUMMARY:Seminar by Dr. Debjani Dasgupta
DESCRIPTION:
LOCATION:Joan Robinson Hall, CDS
END:VEVENT
END:VCALENDAR
