BEGIN:VCALENDAR
VERSION:2.0
PRODID:-//Centre for Development Studies
CALSCALE:GREGORIAN
METHOD:PUBLISH
X-WR-CALNAME:Centre for Development Studies
X-ORIGINAL-URL:https://cds.edu/event/discussing-with-prof-marcus-taylor-from-queensland-university-canada-under-wayanad-resilience-series/
X-WR-CALDESC:Discussing with Prof Marcus Taylor from Queensland University, Canada under Wayanad Resilience Series
BEGIN:VEVENT
DTSTART:20260116T153000
DTEND:20260116T170000
SUMMARY:Discussing with Prof Marcus Taylor from Queensland University, Canada under Wayanad Resilience Series
DESCRIPTION:
LOCATION:Joan Robinson Hall, CDS
END:VEVENT
END:VCALENDAR
