BEGIN:VCALENDAR
VERSION:2.0
PRODID:-//Centre for Development Studies
CALSCALE:GREGORIAN
METHOD:PUBLISH
X-WR-CALNAME:Centre for Development Studies
X-ORIGINAL-URL:https://cds.edu/event/knraj-lecture2025/
X-WR-CALDESC:K. N. Raj Memorial Lecture
BEGIN:VEVENT
DTSTART:20251127T160000
DTEND:20251127T173000
SUMMARY:K. N. Raj Memorial Lecture
DESCRIPTION:Thursday, 27 Nov 2025
LOCATION:Joan Robinson Hall, CDS
END:VEVENT
END:VCALENDAR
