BEGIN:VCALENDAR
VERSION:2.0
PRODID:-//Centre for Development Studies
CALSCALE:GREGORIAN
METHOD:PUBLISH
X-WR-CALNAME:Centre for Development Studies
X-ORIGINAL-URL:https://cds.edu/event/workshop-by-dr-ikuno-naka/
X-WR-CALDESC:Workshop by Dr. Ikuno Naka
BEGIN:VEVENT
DTSTART:20251205T090000
DTEND:20251208T170000
SUMMARY:Workshop by Dr. Ikuno Naka
DESCRIPTION:
LOCATION:
END:VEVENT
END:VCALENDAR
