BEGIN:VCALENDAR
VERSION:2.0
PRODID:-//Centre for Development Studies
CALSCALE:GREGORIAN
METHOD:PUBLISH
X-WR-CALNAME:Centre for Development Studies
X-ORIGINAL-URL:https://cds.edu/event/kerala-and-the-world-economy-conference-2026/
X-WR-CALDESC:Kerala and the World Economy Conference-2026
BEGIN:VEVENT
DTSTART:20260223T090000
DTEND:20260224T170000
SUMMARY:Kerala and the World Economy Conference-2026
DESCRIPTION:February 23-24, 2026
LOCATION:Joan Robinson Hall, CDS
END:VEVENT
END:VCALENDAR
