BEGIN:VCALENDAR
VERSION:2.0
PRODID:-//Centre for Development Studies
CALSCALE:GREGORIAN
METHOD:PUBLISH
X-WR-CALNAME:Centre for Development Studies
X-ORIGINAL-URL:https://cds.edu/event/sc-st-cell-orientation-programme/
X-WR-CALDESC:SC/ST cell Orientation Programme
BEGIN:VEVENT
DTSTART:20251107T153000
DTEND:20251107T170000
SUMMARY:SC/ST cell Orientation Programme
DESCRIPTION:
LOCATION:Joan Robinson Hall, CDS
END:VEVENT
END:VCALENDAR
