BEGIN:VCALENDAR
VERSION:2.0
PRODID:-//Centre for Development Studies
CALSCALE:GREGORIAN
METHOD:PUBLISH
X-WR-CALNAME:Centre for Development Studies
X-ORIGINAL-URL:https://cds.edu/event/seminar-by-dr-pintu-parui/
X-WR-CALDESC:Seminar by Dr. Pintu Parui
BEGIN:VEVENT
DTSTART:20251121T153000
DTEND:20251121T170000
SUMMARY:Seminar by Dr. Pintu Parui
DESCRIPTION:
LOCATION:Joan Robinson Hall, CDS
END:VEVENT
END:VCALENDAR
