BEGIN:VCALENDAR
VERSION:2.0
PRODID:-//Centre for Development Studies
CALSCALE:GREGORIAN
METHOD:PUBLISH
X-WR-CALNAME:Centre for Development Studies
X-ORIGINAL-URL:https://cds.edu/event/ecological-orientation-session/
X-WR-CALDESC:Ecological Orientation Session
BEGIN:VEVENT
DTSTART:20251029T143000
DTEND:20251029T170000
SUMMARY:Ecological Orientation Session
DESCRIPTION:
LOCATION:Baker Auditorium
END:VEVENT
END:VCALENDAR
