BEGIN:VCALENDAR
VERSION:2.0
PRODID:-//Centre for Development Studies
CALSCALE:GREGORIAN
METHOD:PUBLISH
X-WR-CALNAME:Centre for Development Studies
X-ORIGINAL-URL:https://cds.edu/event/panel-discussion-by-students-discussion-committee-on-2025-economics-nobel-prize/
X-WR-CALDESC:Panel Discussion by students Discussion Committee on 2025 Economics Nobel Prize
BEGIN:VEVENT
DTSTART:20251103T153000
DTEND:20251103T170000
SUMMARY:Panel Discussion by students Discussion Committee on 2025 Economics Nobel Prize
DESCRIPTION:3rd November, 2025 at 3.30 pm
LOCATION:Joan Robinson Hall, CDS
END:VEVENT
END:VCALENDAR
