BEGIN:VCALENDAR
VERSION:2.0
PRODID:-//Centre for Development Studies
CALSCALE:GREGORIAN
METHOD:PUBLISH
X-WR-CALNAME:Centre for Development Studies
X-ORIGINAL-URL:https://cds.edu/event/documentary-sreening/
X-WR-CALDESC:Documentary Screening by students
BEGIN:VEVENT
DTSTART:20251030T153000
DTEND:20251030T170000
SUMMARY:Documentary Screening by students
DESCRIPTION:
LOCATION:Joan Robinson Hall, CDS
END:VEVENT
END:VCALENDAR
