BEGIN:VCALENDAR
VERSION:2.0
PRODID:-//Centre for Development Studies
CALSCALE:GREGORIAN
METHOD:PUBLISH
X-WR-CALNAME:Centre for Development Studies
X-ORIGINAL-URL:https://cds.edu/event/ma-2024-batchs-project-presentations/
X-WR-CALDESC:MA 2024 batch’s Project Presentations
BEGIN:VEVENT
DTSTART:20251110T090000
DTEND:20251111T170000
SUMMARY:MA 2024 batch’s Project Presentations
DESCRIPTION:
LOCATION:Joan Robinson Hall, CDS
END:VEVENT
END:VCALENDAR
