BEGIN:VCALENDAR
VERSION:2.0
PRODID:-//Centre for Development Studies
CALSCALE:GREGORIAN
METHOD:PUBLISH
X-WR-CALNAME:Centre for Development Studies
X-ORIGINAL-URL:https://cds.edu/event/16bgkumar-lecture2025/
X-WR-CALDESC:B G Kumar Memorial Lecture by Prof. Barbara Harris White.
BEGIN:VEVENT
DTSTART:20251105T153000
DTEND:20251105T170000
SUMMARY:B G Kumar Memorial Lecture by Prof. Barbara Harris White.
DESCRIPTION:5 November, 2025
LOCATION:Joan Robinson Hall, CDS
END:VEVENT
END:VCALENDAR
