BEGIN:VCALENDAR
VERSION:2.0
PRODID:-//Centre for Development Studies
CALSCALE:GREGORIAN
METHOD:PUBLISH
X-WR-CALNAME:Centre for Development Studies
X-ORIGINAL-URL:https://cds.edu/event/phdcolloquium2/
X-WR-CALDESC:Crossroads 2026-PhD Colloquium
BEGIN:VEVENT
DTSTART:20260205T090000
DTEND:20260207T170000
SUMMARY:Crossroads 2026-PhD Colloquium
DESCRIPTION:5 - 7 February 2026
LOCATION:Joan Robinson Hall, CDS
END:VEVENT
END:VCALENDAR
