BEGIN:VCALENDAR
VERSION:2.0
PRODID:-//Centre for Development Studies
CALSCALE:GREGORIAN
METHOD:PUBLISH
X-WR-CALNAME:Centre for Development Studies
X-ORIGINAL-URL:https://cds.edu/event/centres-governing-body-meeting/
X-WR-CALDESC:Centre&#8217;s Governing Body Meeting
BEGIN:VEVENT
DTSTART:20251118T110000
DTEND:20251118T130000
SUMMARY:Centre&#8217;s Governing Body Meeting
DESCRIPTION:
LOCATION:
END:VEVENT
END:VCALENDAR
