BEGIN:VCALENDAR
VERSION:2.0
PRODID:-//Centre for Development Studies
CALSCALE:GREGORIAN
METHOD:PUBLISH
X-WR-CALNAME:Centre for Development Studies
X-ORIGINAL-URL:https://cds.edu/event/national-conference-on-production-employment-and-marketing-of-plantation-crops-in-india/
X-WR-CALDESC:National Conference on Production, Employment and Marketing of Plantation Crops in India.
BEGIN:VEVENT
DTSTART:20251103T090000
DTEND:20251104T170000
SUMMARY:National Conference on Production, Employment and Marketing of Plantation Crops in India.
DESCRIPTION:3rd to 4th November, 2025
LOCATION:
END:VEVENT
END:VCALENDAR
