BEGIN:VCALENDAR
VERSION:2.0
PRODID:-//Centre for Development Studies
CALSCALE:GREGORIAN
METHOD:PUBLISH
X-WR-CALNAME:Centre for Development Studies
X-ORIGINAL-URL:https://cds.edu/event/registration-of-ma-batch/
X-WR-CALDESC:Registration of MA Batch
BEGIN:VEVENT
DTSTART:20250818T090000
DTEND:20250818T140000
SUMMARY:Registration of MA Batch
DESCRIPTION:
LOCATION:Joan Robinson Hall, CDS
END:VEVENT
END:VCALENDAR
