BEGIN:VCALENDAR
VERSION:2.0
PRODID:-//Centre for Development Studies
CALSCALE:GREGORIAN
METHOD:PUBLISH
X-WR-CALNAME:Centre for Development Studies
X-ORIGINAL-URL:https://cds.edu/event/rac-of-bhatraju-jithin-sree/
X-WR-CALDESC:RAC of Bhatraju Jithin Sree
BEGIN:VEVENT
DTSTART:20250716T163000
DTEND:20250716T180000
SUMMARY:RAC of Bhatraju Jithin Sree
DESCRIPTION:
LOCATION:APC Room
END:VEVENT
END:VCALENDAR
