BEGIN:VCALENDAR
VERSION:2.0
PRODID:-//Centre for Development Studies
CALSCALE:GREGORIAN
METHOD:PUBLISH
X-WR-CALNAME:Centre for Development Studies
X-ORIGINAL-URL:https://cds.edu/event/research-advisory-committee-meeting-of-mr-abhinav-surya/
X-WR-CALDESC:Research Advisory Committee Meeting of Mr. Abhinav Surya
BEGIN:VEVENT
DTSTART:20250729T090000
DTEND:20250729T110000
SUMMARY:Research Advisory Committee Meeting of Mr. Abhinav Surya
DESCRIPTION:
LOCATION:Joan Robinson Hall, CDS
END:VEVENT
END:VCALENDAR
