BEGIN:VCALENDAR
VERSION:2.0
PRODID:-//Centre for Development Studies
CALSCALE:GREGORIAN
METHOD:PUBLISH
X-WR-CALNAME:Centre for Development Studies
X-ORIGINAL-URL:https://cds.edu/event/committee-of-direction-cd-and-governing-body-gb-2/
X-WR-CALDESC:CDS Governing Body (GB) Meeting
BEGIN:VEVENT
DTSTART:20250916T100000
DTEND:20250916T123000
SUMMARY:CDS Governing Body (GB) Meeting
DESCRIPTION:September 16, 2025 (Governing Body)
LOCATION:
END:VEVENT
END:VCALENDAR
