BEGIN:VCALENDAR
VERSION:2.0
PRODID:-//Centre for Development Studies
CALSCALE:GREGORIAN
METHOD:PUBLISH
X-WR-CALNAME:Centre for Development Studies
X-ORIGINAL-URL:https://cds.edu/event/7th-dr-b-r-ambedkar-memorial-event/
X-WR-CALDESC:7th Dr. B. R. Ambedkar Memorial Event
BEGIN:VEVENT
DTSTART:20250613T153000
DTEND:20250613T170000
SUMMARY:7th Dr. B. R. Ambedkar Memorial Event
DESCRIPTION:
LOCATION:CDS-Joan Robinson Hall
END:VEVENT
END:VCALENDAR
