BEGIN:VCALENDAR
VERSION:2.0
PRODID:-//Centre for Development Studies
CALSCALE:GREGORIAN
METHOD:PUBLISH
X-WR-CALNAME:Centre for Development Studies
X-ORIGINAL-URL:https://cds.edu/event/reading-session/
X-WR-CALDESC:Reading session
BEGIN:VEVENT
DTSTART:20250610T153000
DTEND:20250610T170000
SUMMARY:Reading session
DESCRIPTION:
LOCATION:Ph.D Class room
END:VEVENT
END:VCALENDAR
