BEGIN:VCALENDAR
VERSION:2.0
PRODID:-//Centre for Development Studies
CALSCALE:GREGORIAN
METHOD:PUBLISH
X-WR-CALNAME:Centre for Development Studies
X-ORIGINAL-URL:https://cds.edu/event/synopsis-presentation-of-ms-anna-maria-abraham/
X-WR-CALDESC:Synopsis Presentation of Ms. Anna Maria Abraham
BEGIN:VEVENT
DTSTART:20250506T150000
DTEND:20250506T170000
SUMMARY:Synopsis Presentation of Ms. Anna Maria Abraham
DESCRIPTION:
LOCATION:Joan Robinson Hall
END:VEVENT
END:VCALENDAR
