BEGIN:VCALENDAR
VERSION:2.0
PRODID:-//Centre for Development Studies
CALSCALE:GREGORIAN
METHOD:PUBLISH
X-WR-CALNAME:Centre for Development Studies
X-ORIGINAL-URL:https://cds.edu/event/synopsis-presentation-of-ms-sangeetha-kethapaka/
X-WR-CALDESC:Synopsis Presentation of Ms. Sangeetha Kethapaka
BEGIN:VEVENT
DTSTART:20250505T150000
DTEND:20250505T170000
SUMMARY:Synopsis Presentation of Ms. Sangeetha Kethapaka
DESCRIPTION:
LOCATION:Joan Robinson Hall
END:VEVENT
END:VCALENDAR
