BEGIN:VCALENDAR
VERSION:2.0
PRODID:-//Centre for Development Studies
CALSCALE:GREGORIAN
METHOD:PUBLISH
X-WR-CALNAME:Centre for Development Studies
X-ORIGINAL-URL:https://cds.edu/event/icc-orientation-on-12th-feb-2025/
X-WR-CALDESC:ICC Orientation on 12th Feb 2025
BEGIN:VEVENT
DTSTART:20250212T150000
DTEND:20250212T170000
SUMMARY:ICC Orientation on 12th Feb 2025
DESCRIPTION:
LOCATION:Joan Robinson Hall
END:VEVENT
END:VCALENDAR
