BEGIN:VCALENDAR
VERSION:2.0
PRODID:-//Centre for Development Studies
CALSCALE:GREGORIAN
METHOD:PUBLISH
X-WR-CALNAME:Centre for Development Studies
X-ORIGINAL-URL:https://cds.edu/event/dbie2025-workshop/
X-WR-CALDESC:Workshop on Database on Indian Economy
BEGIN:VEVENT
DTSTART:20250217T090000
DTEND:20250223T170000
SUMMARY:Workshop on Database on Indian Economy
DESCRIPTION:17-23 February 2024
LOCATION:Joan Robinson Hall
END:VEVENT
END:VCALENDAR
