BEGIN:VCALENDAR
VERSION:2.0
PRODID:-//Centre for Development Studies
CALSCALE:GREGORIAN
METHOD:PUBLISH
X-WR-CALNAME:Centre for Development Studies
X-ORIGINAL-URL:https://cds.edu/event/seminar-by-mr-abhinav-surya-ph-d-scholar/
X-WR-CALDESC:Re-registration presentation of Binod Kumar Behera
BEGIN:VEVENT
DTSTART:20241202T150000
DTEND:20241202T163000
SUMMARY:Re-registration presentation of Binod Kumar Behera
DESCRIPTION:
LOCATION:Joan Robinson Hall
END:VEVENT
END:VCALENDAR
