BEGIN:VCALENDAR
VERSION:2.0
PRODID:-//Centre for Development Studies
CALSCALE:GREGORIAN
METHOD:PUBLISH
X-WR-CALNAME:Centre for Development Studies
X-ORIGINAL-URL:https://cds.edu/event/library-trainee-interview/
X-WR-CALDESC:Library Trainee Interview
BEGIN:VEVENT
DTSTART:20241205T090000
DTEND:20241205T170000
SUMMARY:Library Trainee Interview
DESCRIPTION:
LOCATION:Governing Body Room
END:VEVENT
END:VCALENDAR
