BEGIN:VCALENDAR
VERSION:2.0
PRODID:-//Centre for Development Studies
CALSCALE:GREGORIAN
METHOD:PUBLISH
X-WR-CALNAME:Centre for Development Studies
X-ORIGINAL-URL:https://cds.edu/event/open-defence-viva-voce-examination-of-mr-maheshkumar-t/
X-WR-CALDESC:Open Defence &#038; Viva voce Examination of Mr. Maheshkumar T.
BEGIN:VEVENT
DTSTART:20241126T150000
DTEND:20241126T170000
SUMMARY:Open Defence &#038; Viva voce Examination of Mr. Maheshkumar T.
DESCRIPTION:
LOCATION:Joan Robinson Hall
END:VEVENT
END:VCALENDAR
