BEGIN:VCALENDAR
VERSION:2.0
PRODID:-//Centre for Development Studies
CALSCALE:GREGORIAN
METHOD:PUBLISH
X-WR-CALNAME:Centre for Development Studies
X-ORIGINAL-URL:https://cds.edu/event/caste-orientation-programme-by-sc-st-cell/
X-WR-CALDESC:Caste Orientation Programme by SC/ST cell
BEGIN:VEVENT
DTSTART:20241203T090000
DTEND:20241203T170000
SUMMARY:Caste Orientation Programme by SC/ST cell
DESCRIPTION:
LOCATION:Joan Robinson Hall
END:VEVENT
END:VCALENDAR
