BEGIN:VCALENDAR
VERSION:2.0
PRODID:-//Centre for Development Studies
CALSCALE:GREGORIAN
METHOD:PUBLISH
X-WR-CALNAME:Centre for Development Studies
X-ORIGINAL-URL:https://cds.edu/event/international-yoga-day2024/
X-WR-CALDESC:International Yoga Day 2024
BEGIN:VEVENT
DTSTART:20240621T070000
DTEND:20240621T083000
SUMMARY:International Yoga Day 2024
DESCRIPTION:21 June 2024
LOCATION:
END:VEVENT
END:VCALENDAR
