BEGIN:VCALENDAR
VERSION:2.0
PRODID:-//Centre for Development Studies
CALSCALE:GREGORIAN
METHOD:PUBLISH
X-WR-CALNAME:Centre for Development Studies
X-ORIGINAL-URL:https://cds.edu/event/remembering-the-legacy-of-prof-k-n-raj/
X-WR-CALDESC:Remembering the Legacy of Prof K N Raj
BEGIN:VEVENT
DTSTART:20240513T153000
DTEND:20240513T170000
SUMMARY:Remembering the Legacy of Prof K N Raj
DESCRIPTION:13 May 2024
LOCATION:
END:VEVENT
END:VCALENDAR
