BEGIN:VCALENDAR
VERSION:2.0
PRODID:-//Centre for Development Studies
CALSCALE:GREGORIAN
METHOD:PUBLISH
X-WR-CALNAME:Centre for Development Studies
X-ORIGINAL-URL:https://cds.edu/event/workshop-finance/
X-WR-CALDESC:Workshop on Fiscal Decentralization
BEGIN:VEVENT
DTSTART:20240408T100000
DTEND:20240408T130000
SUMMARY:Workshop on Fiscal Decentralization
DESCRIPTION:8 April 2024
LOCATION:
END:VEVENT
END:VCALENDAR
