BEGIN:VCALENDAR
VERSION:2.0
PRODID:-//Centre for Development Studies
CALSCALE:GREGORIAN
METHOD:PUBLISH
X-WR-CALNAME:Centre for Development Studies
X-ORIGINAL-URL:https://cds.edu/event/seminar-byvcnitiaayog/
X-WR-CALDESC:Seminar by Shri Suman Bery, V C, NITI Aayog
BEGIN:VEVENT
DTSTART:20240104T110000
DTEND:20240104T120000
SUMMARY:Seminar by Shri Suman Bery, V C, NITI Aayog
DESCRIPTION:4 January 2024
LOCATION:
END:VEVENT
END:VCALENDAR
