BEGIN:VCALENDAR
VERSION:2.0
PRODID:-//Centre for Development Studies
CALSCALE:GREGORIAN
METHOD:PUBLISH
X-WR-CALNAME:Centre for Development Studies
X-ORIGINAL-URL:https://cds.edu/event/migration-workshop/
X-WR-CALDESC:Workshop on Research on Migration Issues
BEGIN:VEVENT
DTSTART:20240304T090000
DTEND:20240308T170000
SUMMARY:Workshop on Research on Migration Issues
DESCRIPTION:4-8 March 2024 | Selection List Published
LOCATION:
END:VEVENT
END:VCALENDAR
