BEGIN:VCALENDAR
VERSION:2.0
PRODID:-//Centre for Development Studies
CALSCALE:GREGORIAN
METHOD:PUBLISH
X-WR-CALNAME:Centre for Development Studies
X-ORIGINAL-URL:https://cds.edu/event/seminar-by-vidyarani-k-and-maheshkumar-t/
X-WR-CALDESC:Seminar by Vidyarani K and Maheshkumar T
BEGIN:VEVENT
DTSTART:20231117T153000
DTEND:20231117T170000
SUMMARY:Seminar by Vidyarani K and Maheshkumar T
DESCRIPTION:17 November 2023
LOCATION:Joan Robinson Hall
END:VEVENT
END:VCALENDAR
