BEGIN:VCALENDAR
VERSION:2.0
PRODID:-//Centre for Development Studies
CALSCALE:GREGORIAN
METHOD:PUBLISH
X-WR-CALNAME:Centre for Development Studies
X-ORIGINAL-URL:https://cds.edu/event/seminar-vinod-thomas/
X-WR-CALDESC:Seminar by Dr. Vinod Thomas
BEGIN:VEVENT
DTSTART:20231103T150000
DTEND:20231103T170000
SUMMARY:Seminar by Dr. Vinod Thomas
DESCRIPTION:3 November 2023
LOCATION:Joan Robinson Hall
END:VEVENT
END:VCALENDAR
