BEGIN:VCALENDAR
VERSION:2.0
PRODID:-//Centre for Development Studies
CALSCALE:GREGORIAN
METHOD:PUBLISH
X-WR-CALNAME:Centre for Development Studies
X-ORIGINAL-URL:https://cds.edu/event/seminar-by-dr-sripad-motiram-university-of-massachusetts/
X-WR-CALDESC:Seminar by Dr. Sripad Motiram
BEGIN:VEVENT
DTSTART:20230727T153000
DTEND:20230727T170000
SUMMARY:Seminar by Dr. Sripad Motiram
DESCRIPTION:27 July 2023
LOCATION:Joan Robinson Hall
END:VEVENT
END:VCALENDAR
