BEGIN:VCALENDAR
VERSION:2.0
PRODID:-//Centre for Development Studies
CALSCALE:GREGORIAN
METHOD:PUBLISH
X-WR-CALNAME:Centre for Development Studies
X-ORIGINAL-URL:https://cds.edu/event/discussion-on-the-unfinished-quest-indias-search-for-major-power-status-from-nehru-to-modi/
X-WR-CALDESC:Discussion on The Unfinished Quest: India’s Search for Major Power Status from Nehru to Modi
BEGIN:VEVENT
DTSTART:20230124T153000
DTEND:20230124T170000
SUMMARY:Discussion on The Unfinished Quest: India’s Search for Major Power Status from Nehru to Modi
DESCRIPTION:24 January 2023
LOCATION:
END:VEVENT
END:VCALENDAR
