BEGIN:VCALENDAR
VERSION:2.0
PRODID:-//Centre for Development Studies
CALSCALE:GREGORIAN
METHOD:PUBLISH
X-WR-CALNAME:Centre for Development Studies
X-ORIGINAL-URL:https://cds.edu/event/re-registration-presentation-of-ms-libitha/
X-WR-CALDESC:Re-registration presentation of Ms. Libitha
BEGIN:VEVENT
DTSTART:20221212T110000
DTEND:20221212T010000
SUMMARY:Re-registration presentation of Ms. Libitha
DESCRIPTION:
LOCATION:Library Committee Room
END:VEVENT
END:VCALENDAR
