BEGIN:VCALENDAR
VERSION:2.0
PRODID:-//Centre for Development Studies
CALSCALE:GREGORIAN
METHOD:PUBLISH
X-WR-CALNAME:Centre for Development Studies
X-ORIGINAL-URL:https://cds.edu/event/acad/
X-WR-CALDESC:PhD Pre-submission seminar of Mr.Rajesh
BEGIN:VEVENT
DTSTART:20221201T150000
DTEND:20221201T170000
SUMMARY:PhD Pre-submission seminar of Mr.Rajesh
DESCRIPTION:
LOCATION:Joan Robinson Hall
END:VEVENT
END:VCALENDAR
