BEGIN:VCALENDAR
VERSION:2.0
PRODID:-//Centre for Development Studies
CALSCALE:GREGORIAN
METHOD:PUBLISH
X-WR-CALNAME:Centre for Development Studies
X-ORIGINAL-URL:https://cds.edu/event/akam-lecture-04/
X-WR-CALDESC:AKAM Lecture Series: 04
BEGIN:VEVENT
DTSTART:20220428T153000
DTEND:20220428T170000
SUMMARY:AKAM Lecture Series: 04
DESCRIPTION:28 April 2022
LOCATION:
END:VEVENT
END:VCALENDAR
