BEGIN:VCALENDAR
VERSION:2.0
PRODID:-//Centre for Development Studies
CALSCALE:GREGORIAN
METHOD:PUBLISH
X-WR-CALNAME:Centre for Development Studies
X-ORIGINAL-URL:https://cds.edu/event/discussion-on-industrialisation-for-employment-and-growth-in-india/
X-WR-CALDESC:Discussion on Industrialisation for Employment and Growth in India
BEGIN:VEVENT
DTSTART:20220128T150000
DTEND:20220128T163000
SUMMARY:Discussion on Industrialisation for Employment and Growth in India
DESCRIPTION:28 January 2022
LOCATION:
END:VEVENT
END:VCALENDAR
