BEGIN:VCALENDAR
VERSION:2.0
PRODID:-//Centre for Development Studies
CALSCALE:GREGORIAN
METHOD:PUBLISH
X-WR-CALNAME:Centre for Development Studies
X-ORIGINAL-URL:https://cds.edu/event/seminar-by-dr-neha-hui-from-university-of-reading/
X-WR-CALDESC:Webinar by Dr. Neha Hui, University of Reading
BEGIN:VEVENT
DTSTART:20210827T153000
DTEND:20210827T170000
SUMMARY:Webinar by Dr. Neha Hui, University of Reading
DESCRIPTION:27 August 2021
LOCATION:
END:VEVENT
END:VCALENDAR
